BEGIN:VCALENDAR
VERSION:2.0
PRODID:-//Taft Theatre//tafttheatre.org//EN
CALSCALE:GREGORIAN
BEGIN:VEVENT
UID:https://tafttheatre.org/events/2026/09/gladys-knight#1325
DTSTAMP:20260420T173308Z
SUMMARY:Gladys Knight
DTSTART;TZID=America/New_York:20260911T180000
DTEND;TZID=America/New_York:20260911T210000
DESCRIPTION:
LOCATION:Taft Theatre\n317 East 5th St\nCincinnati\, OH 45202
URL;VALUE=URI:https://tafttheatre.org/events/2026/09/gladys-knight
END:VEVENT
END:VCALENDAR
